BEGIN:VCALENDAR
VERSION:2.0
PRODID:icalendar-ruby
CALSCALE:GREGORIAN
METHOD:PUBLISH
BEGIN:VEVENT
DTSTAMP:20260421T135311Z
UID:5-401613@hopecityyork.com
DTSTART:20261025T140000Z
DTEND:20261025T150000Z
CLASS:PUBLIC
CREATED:20260421T081510
DESCRIPTION:Sunday Worship
LAST-MODIFIED:20260421T081510
LOCATION:
SUMMARY:Sunday Worship
URL;VALUE=URI:https://hopecityyork.com/events/sunday-worship/2026-10-25
END:VEVENT
END:VCALENDAR
